BEGIN:VCALENDAR
VERSION:2.0
PRODID:-//Organisme de formation professionnelle et continue - ECPv6.15.17.1//NONSGML v1.0//EN
CALSCALE:GREGORIAN
METHOD:PUBLISH
X-WR-CALNAME:Organisme de formation professionnelle et continue
X-ORIGINAL-URL:https://masterformation.gf
X-WR-CALDESC:Évènements pour Organisme de formation professionnelle et continue
REFRESH-INTERVAL;VALUE=DURATION:PT1H
X-Robots-Tag:noindex
X-PUBLISHED-TTL:PT1H
BEGIN:VTIMEZONE
TZID:America/Cayenne
BEGIN:STANDARD
TZOFFSETFROM:-0300
TZOFFSETTO:-0300
TZNAME:-03
DTSTART:20250101T000000
END:STANDARD
END:VTIMEZONE
BEGIN:VEVENT
DTSTART;VALUE=DATE:20260420
DTEND;VALUE=DATE:20260422
DTSTAMP:20260420T015927
CREATED:20251222T134018Z
LAST-MODIFIED:20260306T134815Z
UID:12209-1776643200-1776815999@masterformation.gf
SUMMARY:Renforcer son efficacité professionnelle (Session garantie)
DESCRIPTION:« Développez vos talents commerciaux : transformez chaque échange client en opportunité de valeur. » \nDans un contexte où la relation client est au cœur de la performance\, savoir vendre ne se limite plus à conclure une transaction : il s’agit de créer une expérience\, de bâtir une confiance et de générer de la valeur durable. Cette formation vous accompagne dans l’acquisition de techniques d’argumentation personnalisées et de comportements efficaces pour maximiser vos résultats en vente-service. Grâce à des mises en pratique\, des jeux de rôle et des outils concrets\, vous apprendrez à accueillir vos clients avec impact\, à calibrer vos arguments selon leurs besoins\, et à conduire chaque échange avec précision et assurance. L’objectif : renforcer votre efficacité commerciale et contribuer activement à la satisfaction et à la fidélisation de vos clients. \nSynthèse du programme\n\nComprendre les étapes clés du processus de vente et leurs enjeux (rentabilité\, relation commerciale)\nAccueillir le client avec impact (méthode des 5×20\, face-à-face optimisé)\nJeux de rôle pour diagnostiquer son potentiel et son efficacité\nConstruire et adapter ses argumentaires (donner envie\, prouver\, convaincre)\nExercice pratique : identifier besoins et critères de choix du client\nDévelopper l’efficacité interne pour mieux servir le client externe (questionnement\, positionnement\, validation de la satisfaction)\nÉlaborer un plan d’action personnalisé pour renforcer sa relation commerciale\n\n\nPour qui : Toute personne souhaitant acquérir les connaissances nécessaires afin de maîtriser le processus de la vente. \nPrérequis : cette formation ne nécessite aucun prérequis \nDates de la formation : Les 20. 21 avril 2026 \nHoraires : de o8h3o à 12h3o – 12h30 à 16h30 \n\n\n 
URL:https://masterformation.gf/event/renforcer-son-efficacite-professionnelle-4/
LOCATION:Master Formation\, 4 rue des coccinelles - zi collery 3\, cayenne\, 97300\, France
CATEGORIES:vente
ORGANIZER;CN="MasterFormation":MAILTO:infos@masterformation.gf
END:VEVENT
END:VCALENDAR