BEGIN:VCALENDAR
VERSION:2.0
PRODID:-//Organisme de formation professionnelle et continue - ECPv6.15.17.1//NONSGML v1.0//EN
CALSCALE:GREGORIAN
METHOD:PUBLISH
X-WR-CALNAME:Organisme de formation professionnelle et continue
X-ORIGINAL-URL:https://masterformation.gf
X-WR-CALDESC:Évènements pour Organisme de formation professionnelle et continue
REFRESH-INTERVAL;VALUE=DURATION:PT1H
X-Robots-Tag:noindex
X-PUBLISHED-TTL:PT1H
BEGIN:VTIMEZONE
TZID:America/Cayenne
BEGIN:STANDARD
TZOFFSETFROM:-0300
TZOFFSETTO:-0300
TZNAME:-03
DTSTART:20250101T000000
END:STANDARD
END:VTIMEZONE
BEGIN:VEVENT
DTSTART;VALUE=DATE:20260423
DTEND;VALUE=DATE:20260425
DTSTAMP:20260423T031339
CREATED:20250611T155637Z
LAST-MODIFIED:20260306T124437Z
UID:11989-1776902400-1777075199@masterformation.gf
SUMMARY:La gestion des stocks : Outils et Méthodes ( Session garantie)
DESCRIPTION:La tenue des stocks est un maillon de la chaîne logistique dont la défaillance peut entraîner une dégradation du service au client. Cette formation à la gestion de stock vous fournit les outils pour fonctionner en « juste stock » pour un meilleur service au client et un coût optimisé pour l’entreprise. \nCette formation devra vous permettre de :\n\nDe comprendre la nécessité et l’incidence du stock \nD’identifier les zones d’enjeux de ses stocks \nD’assurer le pilotage de sa gestion de stock \nPrérequis : cette formation ne nécessite aucun prérequis . \nDates : les 23. 24 avril 2026 \nHoraires : de o8h3o à 12h3o – 16h30 à 16h30
URL:https://masterformation.gf/event/la-gestion-des-stocks-outils-et-methodes/
CATEGORIES:Logistique
END:VEVENT
END:VCALENDAR